BEGIN:VCALENDAR
VERSION:2.0
PRODID:-//wp-events-plugin.com//6.5.2//EN
TZID:Europe/Berlin
X-WR-TIMEZONE:Europe/Berlin
BEGIN:VEVENT
UID:5@infozentrum-huetten.de
DTSTART;TZID=Europe/Berlin:20190823T140000
DTEND;TZID=Europe/Berlin:20190823T170000
DTSTAMP:20190213T090351Z
URL:https://infozentrum-huetten.de/veranstaltungskalender/wer-wohnt-denn-d
 a-im-bach
SUMMARY:Wer wohnt denn da im Bach?
DESCRIPTION:Heidi Bossert und Tina Weixler\, Naturpädagoginnen (BUND Ehing
 en)\n\nDatum: 23. August 2019\nUhrzeit: 14 Uhr\nDauer: 3 Stunden\nTreffpun
 kt: Biosphären-Informationszentrum Hütten\nKosten: 5 € pro Kind\nMitzu
 bringen: wetterangepasste Kleidung\, Wasserschuhe o.ä.\, Vesper und Getr
 änk\, Handtuch\, evtl. Wechselkleidung\, Insekten- und Sonnenschutz\nAnme
 ldung bis spätestens 2 Wochen vor dem Termin unter tiliaalb(at)web.de ode
 r 0179 / 97 93 751\n\n\n[caption id="attachment_407" align="alignleft" wid
 th="500"] Wer wohnt denn da im Bach?[/caption]\n\nWeißt du welche Tiere i
 m Bach leben? Auch wenn man sie auf den ersten Blick nicht sieht – im Ba
 ch ist jede Menge los. Mit Keschern fangen wir die kleinen Bachbewohner\, 
 schauen sie uns mit der Becherlupe ganz genau an und lernen viel Interessa
 ntes über ihre Lebensweise. Außerdem untersuchen wir die Wasserqualität
  und natürlich machen wir auch viele Spiele rund ums Thema Wasser.\n\n&nb
 sp\;\n\nAlle Veranstaltungen des Infozentrums Hütten im Rahmen des Junior
 -Ranger-Programms findet ihr → hier.
ATTACH;FMTTYPE=image/jpeg:https://infozentrum-huetten.de/wp-content/upload
 s/2019/02/Junior_Ranger_Pressefoto-e1549879762955.jpg
CATEGORIES:Für Kinder
END:VEVENT
BEGIN:VTIMEZONE
TZID:Europe/Berlin
X-LIC-LOCATION:Europe/Berlin
BEGIN:DAYLIGHT
DTSTART:20190331T030000
TZOFFSETFROM:+0100
TZOFFSETTO:+0200
TZNAME:CEST
END:DAYLIGHT
END:VTIMEZONE
END:VCALENDAR