BEGIN:VCALENDAR
VERSION:2.0
PRODID:-//wp-events-plugin.com//6.5.2//EN
TZID:Europe/Berlin
X-WR-TIMEZONE:Europe/Berlin
BEGIN:VEVENT
UID:15@infozentrum-huetten.de
DTSTART;TZID=Europe/Berlin:20190525T100000
DTEND;TZID=Europe/Berlin:20190525T160000
DTSTAMP:20190213T084556Z
URL:https://infozentrum-huetten.de/veranstaltungskalender/vortrag-und-gefu
 ehrte-wanderung-aus-der-landschaft-lesen-lernen
SUMMARY:Vortrag und geführte Wanderung: Aus der Landschaft lesen lernen
DESCRIPTION:Dr. Siegfried Roth\, Agrarwissenschaftler\, Landschaftsökologe
 \, Geschäftsführer des Geoparks Schwäbische Alb\n\n\nIn Kooperation mit
  der vhs Laichingen-Blaubeuren-Schelklingen e. V.\n\nDatum: Samstag\, 25. 
 Mai 2019\nUhrzeit: 10 Uhr Vortrag\, 13:30 Uhr geführte Wanderung\nDauer: 
 Vortrag 2 Stunden\, Wanderung ca. 2\,5 Stunden\nVeranstaltungsort: Biosph
 ären-Informationszentrum Hütten\nMitzubringen: Gutes Schuhwerk\, dem Wet
 ter angepasste Kleidung\, evtl. Getränke für die Wanderung\, ggf. Verpfl
 egung für die Mittagspause\nAnmeldung bis Fr.\, 24.5.\, unter: roth(at)ge
 opark-alb.de oder 07394 / 24 870 (Geschäftsstelle des Geoparks\, zu deren
  Öffnungszeiten)\nDie Veranstaltung findet bei jedem Wetter statt.\n\nSei
 t dem Neolithikum prägt der Mensch das Gesicht der Landschaft maßgeblich
  und nachhaltig. Die "Hinterlassenschaften" der historischen Nutzung sind 
 als Kulturlandschaftselemente in der Landschaft allenthalben sichtbar (z. 
 B. Wölbäcker\, Wässerwiesen\, Steinriegel). Ziel des Seminars ist es\, 
 die Teilnehmer zu schulen\, mit wachem Blick durch die Landschaft zu gehen
  und die vorkommenden Kulturlandschafts­bestandteile vor dem Hintergrund 
 des Naturraums und der regionalen Geschichte zu interpretieren. Als Gebiet
 skulisse dient die herrliche Landschaft rund um Hütten im Schmiechtal. We
 gstrecke: 6 –7 km\, Steigung: 200 Höhenmeter.\n\nNach dem Vortrag von 1
 0.00 bis 12.00 Uhr gibt es eine Mittagspause\, entweder mit Rucksackvesper
  oder mit Einkehr im Gasthaus Bären in Schelklingen-Hütten.
ATTACH;FMTTYPE=image/jpeg:https://infozentrum-huetten.de/wp-content/upload
 s/2019/02/20181118_1025041-e1550047399294.jpg
CATEGORIES:Vorträge,Wanderungen
END:VEVENT
BEGIN:VTIMEZONE
TZID:Europe/Berlin
X-LIC-LOCATION:Europe/Berlin
BEGIN:DAYLIGHT
DTSTART:20190331T030000
TZOFFSETFROM:+0100
TZOFFSETTO:+0200
TZNAME:CEST
END:DAYLIGHT
END:VTIMEZONE
END:VCALENDAR