BEGIN:VCALENDAR
VERSION:2.0
PRODID:-//wp-events-plugin.com//6.5.2//EN
TZID:Europe/Berlin
X-WR-TIMEZONE:Europe/Berlin
BEGIN:VEVENT
UID:14@infozentrum-huetten.de
DTSTART;TZID=Europe/Berlin:20190331T110000
DTEND;TZID=Europe/Berlin:20190331T110000
DTSTAMP:20190312T172128Z
URL:https://infozentrum-huetten.de/veranstaltungskalender/vernissage-zur-s
 aisoneroeffnung
SUMMARY:Vernissage zur Saisoneröffnung
DESCRIPTION:Am 31. März eröffnen wir mit der Vernissage zur Ausstellung "
 Die Malerei\, Begleiterin durch mein Leben" von Elfriede Lang die Saison 2
 019!\n\nDie 63-jährige Elfriede Lang ist schon seit drei Jahrzehnten als 
 Künstlerin tätig und hat im Blaubeurer Raum schon mehrfach ausgestellt. 
 2003 belegte sie bei der Aktion „Blaubeurer Bild des Jahres“ den erste
 n Platz. Sie malt vor allem Blumen\, Bäume und Landschaften.\n\n[caption 
 id="attachment_574" align="alignright" width="430"] VON ENNA RAUS: Drei de
 r vier Bandmitglieder[/caption]\n\nDen musikalischen Rahmen der Vernissage
  bildet die Band VON ENNA RAUS\, die seit 2018 ihre Rocksongs im schwäbis
 chen Dialekt von Schelklingen aus in die Welt trägt. Gründer Jürgen Ret
 ter aus Gundershofen holte sich zur Verstärkung die Musiker Lukas Moser a
 us Ingstetten\, Michael Baumann aus Justingen und Armin Klopfer aus Ennaho
 fen ins Boot. Drei der vier sind ausge­sprochene Multiinstrumen­talisten
 \, und so werden auch mal munter die Instrumente durch­gewechselt. Dadurc
 h bleiben die Songs für den Zuhörer immer spannend: mal gelassen\, mal p
 erkussiv\, mal progressiv. Immer kommen sie aber VON ENNA RAUS.\n\nHomepag
 e: von-enna-raus.de\nFacebook: facebook.com/VonEnnaRaus/\nYouTube: youtube
 .com/channel/UCJumNyGCKsijT4vzZsPBWaA
ATTACH;FMTTYPE=image/jpeg:https://infozentrum-huetten.de/wp-content/upload
 s/2019/02/animal-3013766_1280.jpg
CATEGORIES:Ausstellungen,Sonderveranstaltungen
END:VEVENT
BEGIN:VTIMEZONE
TZID:Europe/Berlin
X-LIC-LOCATION:Europe/Berlin
BEGIN:DAYLIGHT
DTSTART:20190331T030000
TZOFFSETFROM:+0100
TZOFFSETTO:+0200
TZNAME:CEST
END:DAYLIGHT
END:VTIMEZONE
END:VCALENDAR