BEGIN:VCALENDAR
VERSION:2.0
PRODID:-//wp-events-plugin.com//6.5.2//EN
TZID:Europe/Berlin
X-WR-TIMEZONE:Europe/Berlin
BEGIN:VEVENT
UID:18@infozentrum-huetten.de
DTSTART;TZID=Europe/Berlin:20190526T100000
DTEND;TZID=Europe/Berlin:20190526T180000
DTSTAMP:20190303T195917Z
URL:https://infozentrum-huetten.de/veranstaltungskalender/tag-der-artenvie
 lfalt-blaubeuren
SUMMARY:Tag der Artenvielfalt Blaubeuren
DESCRIPTION:Am 26. Mai findet in der Blaubeurer Innenstadt wieder der Tag d
 er Artenvielfalt statt.\n\nDer Tag der Artenvielfalt ist eine Gemeinschaft
 saktion des Landesnaturschutzverbandes mit den Naturschutzverbänden im Al
 b-Donau-Kreis und findet seit 2001 alle zwei Jahre statt. Er bietet eine g
 ute Möglichkeit\, unsere Landschaft mit ihren Tieren und Pflanzen besser 
 kennenzulernen und tiefere Einblicke in die Natur zu gewinnen. Viele Exper
 ten stehen bereit\, um die Schönheit unserer heimischen Natur interessier
 ten Familien\, Einzelpersonen oder Vereinsgruppen näherzubringen.\n\nDies
 es Jahr werden im Joachim-Hahn-Gymnasium\, Eduard-von-Lang-Str. 37\, 89143
  Blaubeuren\, unter anderem Vorträge zur Rückkehr des Wolfs nach Deutsch
 land\, zum Lebensraum Höhle und zu heimischen Fledermausarten angeboten. 
 Außerdem gibt es geführte Exkursionen über die Tier- und Planzenwelt in
  Feuchtbiotopen sowie im Lebensraum Wirtschaftswald.\n\nDas Biosphärentea
 m Schelklingen-Hütten ist mit einem Info- und Mitmachstand in der Blaubeu
 rer Innenstadt vertreten.\n\nMehr Infos und den offiziellen Flyer zur Vera
 nstaltung als pdf gibt es → hier.\n\nAnsprechpartnerin für den Tag der 
 Artenvielfalt ist Petra Boldt (LHK) Hauptstr. 4\,\n89601 Schelklingen\, 07
 394 / 15 66.\n\n&nbsp\;
ATTACH;FMTTYPE=image/jpeg:https://infozentrum-huetten.de/wp-content/upload
 s/2019/02/Sommer-12-077-e1550662139929.jpg
CATEGORIES:Sonderveranstaltungen
END:VEVENT
BEGIN:VTIMEZONE
TZID:Europe/Berlin
X-LIC-LOCATION:Europe/Berlin
BEGIN:DAYLIGHT
DTSTART:20190331T030000
TZOFFSETFROM:+0100
TZOFFSETTO:+0200
TZNAME:CEST
END:DAYLIGHT
END:VTIMEZONE
END:VCALENDAR