BEGIN:VCALENDAR
VERSION:2.0
PRODID:-//wp-events-plugin.com//6.5.2//EN
TZID:Europe/Berlin
X-WR-TIMEZONE:Europe/Berlin
BEGIN:VEVENT
UID:23@infozentrum-huetten.de
DTSTART;TZID=Europe/Berlin:20200802T093000
DTEND;TZID=Europe/Berlin:20200802T140000
DTSTAMP:20200715T141142Z
URL:https://infozentrum-huetten.de/veranstaltungskalender/schmiechtal-radt
 our
SUMMARY:Schmiechtal-Radtour
DESCRIPTION:Wege des Wassers erkunden: Im Tal\, im Berg und den Berg hinauf
 !\nSusanne Volzer\, Albguide und Biosphärenpartner\n\nDatum: Sonntag\, 2.
  August 2020\nUhrzeit: 9:30 Uhr\nDauer: ca. 4\,5 Stunden\nTreffpunkt: Bios
 phären-Informationszentrum Hütten\nKosten:&nbsp\; 8 €\nMitzubringen: R
 ucksackvesper und Getränk\nAnmeldung bis Samstag\, 1.8.2020 unter susanne
 .volzer(at)t-online.de oder 07389 / 15 79\n\nStart- und Endpunkt der Tour 
 ist das Biosphäreninfozentrum Hütten im Oberen Schmiechtal. Auf der ca. 
 16&nbsp\;km langen Strecke\, die auf Radwegen teils im Tal\, teils auf der
  Hochebene verläuft\, wird an vielen Punkten die Geschichte der Albwasser
 versorgung lebendig: das alte Pumpwerk Teuringshofen\, heute ein Technik-D
 enkmal\, eine Hüle und der erste Hochbehälter bei Justingen\, das heutig
 e Wasserwerk Gundershofen und eine alte „Brunnenstube“ in Sondernach. 
 Wie das Wasser die Erdgeschichte und somit die Landschaft\, die Pflanzen- 
 und Tierwelt und die Menschengeschichte prägt\, wird auf dieser landschaf
 tlich schönen und abwechslungsreichen Tour deutlich.
ATTACH;FMTTYPE=image/jpeg:https://infozentrum-huetten.de/wp-content/upload
 s/2020/07/cycling-5178398_1280.jpg
CATEGORIES:Fahrradtouren
END:VEVENT
BEGIN:VTIMEZONE
TZID:Europe/Berlin
X-LIC-LOCATION:Europe/Berlin
BEGIN:DAYLIGHT
DTSTART:20200329T030000
TZOFFSETFROM:+0100
TZOFFSETTO:+0200
TZNAME:CEST
END:DAYLIGHT
END:VTIMEZONE
END:VCALENDAR