BEGIN:VCALENDAR
VERSION:2.0
PRODID:-//wp-events-plugin.com//6.5.2//EN
TZID:Europe/Berlin
X-WR-TIMEZONE:Europe/Berlin
BEGIN:VEVENT
UID:21@infozentrum-huetten.de
DTSTART;TZID=Europe/Berlin:20190615T130000
DTEND;TZID=Europe/Berlin:20190615T180000
DTSTAMP:20190606T094622Z
URL:https://infozentrum-huetten.de/veranstaltungskalender/rosenmarkt
SUMMARY:Rosenmarkt
DESCRIPTION:Datum: 15.06.2019\nVeranstalter: CDU-Stadtverband Schelklingen\
 n\nAm Samstag\, den 15. Juni\, findet von 13 bis 18 Uhr in der Schelklinge
 r Innenstadt der dritte Rosen- und Blumen­markt&nbsp\; statt. Das Infozen
 trum Hütten ist mit einem Infostand vertreten. Es erwarten Sie eine Mitma
 chaktion für Groß und Klein und Anregungen zur „biosphärischen“ Gar
 tengestaltung.
ATTACH;FMTTYPE=image/jpeg:https://infozentrum-huetten.de/wp-content/upload
 s/2019/06/Rosen_1.jpg
CATEGORIES:Märkte
END:VEVENT
BEGIN:VTIMEZONE
TZID:Europe/Berlin
X-LIC-LOCATION:Europe/Berlin
BEGIN:DAYLIGHT
DTSTART:20190331T030000
TZOFFSETFROM:+0100
TZOFFSETTO:+0200
TZNAME:CEST
END:DAYLIGHT
END:VTIMEZONE
END:VCALENDAR