BEGIN:VCALENDAR
VERSION:2.0
PRODID:-//wp-events-plugin.com//6.5.2//EN
TZID:Europe/Berlin
X-WR-TIMEZONE:Europe/Berlin
BEGIN:VEVENT
UID:7@infozentrum-huetten.de
DTSTART;TZID=Europe/Berlin:20191006T100000
DTEND;TZID=Europe/Berlin:20191006T160000
DTSTAMP:20190212T111416Z
URL:https://infozentrum-huetten.de/veranstaltungskalender/radtour-mit-dem-
 rad-durchs-idyllische-schmiechtal
SUMMARY:Radtour: Mit dem Rad durchs idyllische Schmiechtal
DESCRIPTION:Susanne Volzer\, Albguide und Biosphärenpartner\n\nDatum: Sonn
 tag\, 6. Oktober 2019\nUhrzeit: 10 Uhr\nDauer: 6 Stunden\nTreffpunkt: Bios
 phären-Informationszentrum Hütten\nKosten: 7 €\; Kinder halber Preis\;
  ab dem 3. Kind pro Familie gratis\nMitzubringen: Rucksackvesper und Getr
 änke\nAnmeldung bis Samstag\, 5.10.2019 unter susanne.volzer(at)t-online.
 de oder 07389 / 15 79\n\n\nMit dem Rad die Wege der historischen Albwasser
 versorgung erkunden: Auf der ca. 16 km langen Strecke\, die auf Radwegen t
 eils im Tal\, teils auf der Hochebene verläuft\, wird an vielen Punkten d
 ie Geschichte der Alb-Wasserversorgung lebendig. Halt gemacht wird am alte
 n Pumpwerk Teuringshofen\, heute ein Technik-Denkmal\, an einer Hüle und 
 am ersten Hochbehälter bei Justingen\, am heutigen Wasserwerk Gundershofe
 n und einer alten „Brunnenstube“ in Sondernach. Auch wie das Wasser di
 e Erdgeschichte und somit die Landschaft\, die Pflanzen- und Tierwelt und 
 die Menschengeschichte prägt\, wird auf dieser landschaftlich schönen un
 d abwechslungsreichen Tour erläutert.
CATEGORIES:Fahrradtouren
END:VEVENT
BEGIN:VTIMEZONE
TZID:Europe/Berlin
X-LIC-LOCATION:Europe/Berlin
BEGIN:DAYLIGHT
DTSTART:20190331T030000
TZOFFSETFROM:+0100
TZOFFSETTO:+0200
TZNAME:CEST
END:DAYLIGHT
END:VTIMEZONE
END:VCALENDAR