BEGIN:VCALENDAR
VERSION:2.0
PRODID:-//wp-events-plugin.com//6.5.2//EN
TZID:Europe/Berlin
X-WR-TIMEZONE:Europe/Berlin
BEGIN:VEVENT
UID:25@infozentrum-huetten.de
DTSTART;TZID=Europe/Berlin:20201011T133000
DTEND;TZID=Europe/Berlin:20201011T163000
DTSTAMP:20200715T142059Z
URL:https://infozentrum-huetten.de/veranstaltungskalender/herbstliche-pilz
 wanderung-bei-huetten
SUMMARY:Herbstliche Pilzwanderung bei Hütten
DESCRIPTION:Jürgen Marqua\, Dipl. Biol.\n\nUhrzeit: 13:30 Uhr\nDauer: ca. 
 3 Stunden\nTreffpunkt : Biosphären-Infozentrum Hütten\nKosten: Kostenlos
 \, um Spenden wird gebeten\nMitzubringen: Festes Schuhwerk\, dem Wetter an
 gepasste Kleidung\, Sammelkorb\nAnmeldung bis Sonntag\, 27.9.2020 unter ju
 ergen.marqua(at)mail.de oder 07391 / 75 77 97\nGeeignet für Kinder ab 6 J
 ahren\n\nBitte beachten Sie: Das Vorkommen von Pilzen im Wald ist stark vo
 n der Witterung abhängig. Je nach Wetter wird die Veranstaltung daher ent
 weder am angegebenen Termin\, oder alternativ am 4. oder am 18. Oktober st
 attfinden. Den tatsächlichen Termin erfahren Sie kurzfristig aus der Tage
 spresse.\n\nJe nach Witterung können auf dieser herbstlichen Pilzwanderun
 g in einem Waldstück bei Hütten interessante Arten verschiedener Pilzgat
 tungen gefunden werden: Holzabbauende Baumpilze\, Giftpilze\, Pilze für S
 peisezwecke\, an Pflanzen parasitierende Pilze. Jürgen Marqua demonstrier
 t die Formen- und Farbenvielfalt und vor allem die wichtige ökologische F
 unktion von Pilzen. Giftpilze und Speisepilze werden anschaulich erklärt.
  Zur Wanderung dürfen auch schon gesammelte Pilze in Körben mitgebracht 
 werden\, die dann bestimmt und sortiert werden.
ATTACH;FMTTYPE=image/jpeg:https://infozentrum-huetten.de/wp-content/upload
 s/2020/07/mushroom-3659165_1280.jpg
CATEGORIES:Wanderungen
END:VEVENT
BEGIN:VTIMEZONE
TZID:Europe/Berlin
X-LIC-LOCATION:Europe/Berlin
BEGIN:DAYLIGHT
DTSTART:20200329T030000
TZOFFSETFROM:+0100
TZOFFSETTO:+0200
TZNAME:CEST
END:DAYLIGHT
END:VTIMEZONE
END:VCALENDAR