BEGIN:VCALENDAR
VERSION:2.0
PRODID:-//wp-events-plugin.com//6.5.2//EN
TZID:Europe/Berlin
X-WR-TIMEZONE:Europe/Berlin
BEGIN:VEVENT
UID:4@infozentrum-huetten.de
DTSTART;TZID=Europe/Berlin:20190807T100000
DTEND;TZID=Europe/Berlin:20190807T150000
DTSTAMP:20190213T090758Z
URL:https://infozentrum-huetten.de/veranstaltungskalender/heinzelmaennchen
 -trail
SUMMARY:Wanderung für Kinder: Heinzelmännchen-Trail
DESCRIPTION:Auf den Spuren des kleinen Volkes\nUrsula Bader-Frommelt\, Alb-
 Guide und Biosphärenbotschafterin\n\nDatum: 07. August 2019\nUhrzeit: 10 
 Uhr\nDauer: ca. 5 Stunden\nTreffpunkt: Sportplatz Mehrstetten\nKosten: 8 
 € pro Person\; Kinder ab 6 Jahren halber Preis\, ab dem 3. Kind pro Fami
 lie gratis\nAnmeldung bis zum 6.8. unter: uplusu(at)t-online.de oder 07391
  / 30 06\nKinder nur in Begleitung eines Erwachsenen\nEine Phantasie-Rundw
 anderung mit der Blickweise auf die Kobolde und Heinzelmännchen am Waldtr
 auf und an einer Quelle. Erschrecken und wundern Sie sich nicht\, wenn Ihn
 en unterwegs vielleicht ein Heinzel­männchen und ein Teufelchen begegnen
 . An manche Überraschungen auf diesem Weg werden Sie sich noch gerne erin
 nern.\n\n\n[caption id="attachment_404" align="alignleft" width="450"] Fl
 ächenalb bei Mehrstetten[/caption]\nDie Wanderung führt von Mehr­stette
 n auf dem alten Hohlweg zur Schmiechquelle hinunter und weiter im Tal bis 
 nach Gunders­hofen. Auf dem Rückweg steigen wir den alten „Steigweg“
  wieder hinauf zum Ausgangspunkt in Mehrstetten. Der Wanderweg ist ca. 7\,
 5 km lang\, dabei werden 165 Höhenmeter hinunter ins Schmiechtal und 165 
 Höhenmeter wieder hinauf auf die Flächenalb überwunden.\n&nbsp\;\n\nAll
 e Veranstaltungen des Infozentrums Hütten im Rahmen des Junior-Ranger-Pro
 gramms findet ihr → hier.
ATTACH;FMTTYPE=image/jpeg:https://infozentrum-huetten.de/wp-content/upload
 s/2019/02/Junior_Ranger_Pressefoto-e1549879762955.jpg
CATEGORIES:Für Kinder,Wanderungen
END:VEVENT
BEGIN:VTIMEZONE
TZID:Europe/Berlin
X-LIC-LOCATION:Europe/Berlin
BEGIN:DAYLIGHT
DTSTART:20190331T030000
TZOFFSETFROM:+0100
TZOFFSETTO:+0200
TZNAME:CEST
END:DAYLIGHT
END:VTIMEZONE
END:VCALENDAR