BEGIN:VCALENDAR
VERSION:2.0
PRODID:-//wp-events-plugin.com//6.5.2//EN
TZID:Europe/Berlin
X-WR-TIMEZONE:Europe/Berlin
BEGIN:VEVENT
UID:9@infozentrum-huetten.de
DTSTART;TZID=Europe/Berlin;VALUE=DATE:20190602
DTEND;TZID=Europe/Berlin;VALUE=DATE:20190729
DTSTAMP:20190228T084525Z
URL:https://infozentrum-huetten.de/veranstaltungskalender/geopark-schwaebi
 sche-alb-faszination-erdgeschichte
SUMMARY:Ausstellung: Geopark Schwäbische Alb – Faszination Erdgeschichte
DESCRIPTION:Die begehbare Ausstellung zum Geopark Schwäbische Alb möchte 
 die geologischen und landschaftlichen Besonderheiten der Schwäbischen Alb
  vermitteln\, geologische Phänomene aufzeigen und den Betrachter mit unbe
 kannten Zusammenhängen überraschen.\nAb dem 2. Juni zu den üblichen →
  Öffnungszeiten zu sehen im Biosphären-Informationszentrum Hütten!\n
ATTACH;FMTTYPE=image/jpeg:https://infozentrum-huetten.de/wp-content/upload
 s/2019/02/animal-3013766_1280.jpg
CATEGORIES:Ausstellungen
END:VEVENT
BEGIN:VTIMEZONE
TZID:Europe/Berlin
X-LIC-LOCATION:Europe/Berlin
BEGIN:DAYLIGHT
DTSTART:20190331T030000
TZOFFSETFROM:+0100
TZOFFSETTO:+0200
TZNAME:CEST
END:DAYLIGHT
END:VTIMEZONE
END:VCALENDAR