BEGIN:VCALENDAR
VERSION:2.0
PRODID:-//wp-events-plugin.com//6.5.2//EN
TZID:Europe/Berlin
X-WR-TIMEZONE:Europe/Berlin
BEGIN:VEVENT
UID:1@infozentrum-huetten.de
DTSTART;TZID=Europe/Berlin:20190428T133000
DTEND;TZID=Europe/Berlin:20190428T163000
DTSTAMP:20190213T084520Z
URL:https://infozentrum-huetten.de/veranstaltungskalender/gefuehrte-wander
 ung-der-schmiechener-see-von-der-urdonau-zur-ur-natur
SUMMARY:Geführte Wanderung: Der Schmiechener See – von der Urdonau zur U
 r-Natur
DESCRIPTION:Winfried Hanold\n\nDatum: Sonntag\, 28. April 2019\nUhrzeit: 13
 :30 Uhr\nDauer: 2–3 Stunden\nTreffpunkt: Sportplatz Schmiechen\nKosten: 
 5 €\, Kinder ab 10 Jahren 2 €\nMitzubringen: dem Wetter angepasste Kle
 idung\; evtl. Fernglas\nAnmeldung bis 26.04.\, 17 Uhr\, unter: whdioptas(a
 t)aol.com oder 0731 / 38 49 10\nFür Kinder ab ca. 10 Jahren geeignet\n\nD
 as Naturschutzgebiet Schmiechener See ist ein Stück ursprüngliche Natur 
 inmitten einer intensiv genutzten Landschaft. Eine spezialisierte Pflanzen
 gesellschaft\, durch den Klimawandel großen Veränderungen unterworfen\, 
 bietet zahlreichen Tierarten Heimat. Durch seinen stark schwankenden Wasse
 rstand gab der See schon immer Anlass zu Spekulationen. Über seine wahre 
 Natur und seine Entstehungsgeschichte im weiten Tal der Urdonau brachte ei
 n Forschungsvorhaben in der 1980er-Jahren endgültige Klarheit. Diese span
 nende Geschichte und viel Wissenswertes über die Natur dieser Landschaft 
 sind Gegenstand der Wanderung mit Winfried Hanold. Start ist am Sportplatz
  Schmiechen um 13:30 Uhr.
ATTACH;FMTTYPE=image/jpeg:https://infozentrum-huetten.de/wp-content/upload
 s/2019/02/20181118_1025041-e1550047399294.jpg
CATEGORIES:Wanderungen
END:VEVENT
BEGIN:VTIMEZONE
TZID:Europe/Berlin
X-LIC-LOCATION:Europe/Berlin
BEGIN:DAYLIGHT
DTSTART:20190331T030000
TZOFFSETFROM:+0100
TZOFFSETTO:+0200
TZNAME:CEST
END:DAYLIGHT
END:VTIMEZONE
END:VCALENDAR