BEGIN:VCALENDAR
VERSION:2.0
PRODID:-//wp-events-plugin.com//6.5.2//EN
TZID:Europe/Berlin
X-WR-TIMEZONE:Europe/Berlin
BEGIN:VEVENT
UID:10@infozentrum-huetten.de
DTSTART;TZID=Europe/Berlin;VALUE=DATE:20190915
DTEND;TZID=Europe/Berlin;VALUE=DATE:20191028
DTSTAMP:20190707T102131Z
URL:https://infozentrum-huetten.de/veranstaltungskalender/fotoausstellung-
 vom-grashuepfer-ueber-marienkaefer-bis-zum-scheckenfalter
SUMMARY:Fotoausstellung: Vom Grashüpfer über Marienkäfer bis zum Schecke
 nfalter
DESCRIPTION:Sandra Starke\n\nDie Pfullinger Fotografin Sandra Starke setzt 
 Krabbeltiere in eindrucksvollen Porträts in Szene. Bei der Aufnahme ihrer
  detailgenauen und ausdrucksstarken Insektenfotos ist es ihr wichtig\, die
  Tiere nicht zu stören und sorgsam mit ihrem natürlichen Lebensraum umzu
 gehen. Sie hoffe\, mit ihren Fotos ihren speziellen Blickwinkel auf die kr
 abbelnden und flatternden Winzlinge vermitteln und die Menschen zu zu Acht
 samkeit gegenüber den bedrohten Lebewesen anregen zu können\, sagt Stark
 e.\n\n[caption id="attachment_447" align="aligncenter" width="533"] Schwal
 benschwanz (Papillo machaon) auf Skabiose[/caption]\n\nDie Ausstellung ihr
 er Insektenporträts ist von 15. September bis 27. Oktober zu den übliche
 n →&nbsp\;Öffnungszeiten im Infozentrum Hütten zu sehen.
ATTACH;FMTTYPE=image/jpeg:https://infozentrum-huetten.de/wp-content/upload
 s/2019/02/animal-3013766_1280.jpg
CATEGORIES:Ausstellungen
END:VEVENT
BEGIN:VTIMEZONE
TZID:Europe/Berlin
X-LIC-LOCATION:Europe/Berlin
BEGIN:DAYLIGHT
DTSTART:20190331T030000
TZOFFSETFROM:+0100
TZOFFSETTO:+0200
TZNAME:CEST
END:DAYLIGHT
BEGIN:STANDARD
DTSTART:20191027T020000
TZOFFSETFROM:+0200
TZOFFSETTO:+0100
TZNAME:CET
END:STANDARD
END:VTIMEZONE
END:VCALENDAR