BEGIN:VCALENDAR
VERSION:2.0
PRODID:-//wp-events-plugin.com//6.5.2//EN
TZID:Europe/Berlin
X-WR-TIMEZONE:Europe/Berlin
BEGIN:VEVENT
UID:24@infozentrum-huetten.de
DTSTART;TZID=Europe/Berlin:20200805T140000
DTEND;TZID=Europe/Berlin:20200805T170000
DTSTAMP:20200715T141200Z
URL:https://infozentrum-huetten.de/veranstaltungskalender/fly-in-futtersta
 tion
SUMMARY:FLY-IN Futterstation
DESCRIPTION: Michael Zoeller – conzeptideen.de\n\nDatum: Mittwoch\, 5. Au
 gust 2020\nUhrzeit:&nbsp\; 14 Uhr\nDauer:&nbsp\; ca. 3 Stunden\nKosten: 10
  €\, zzgl. 6 € Materialkosten\nAnmeldung bis Montag\, 3. August unter 
 info(at)conzeptideen.de oder 0171 / 40 91 039\nGeeignet für Kinder ab 8 J
 ahren\n\nFür Gartenvögel\, die den Winter auf der Schwäbischen Alb verb
 ringen\, wird eine FLY-IN Futterstation gezimmert. Das Schnellrestaurant w
 ird aus verschieden großen Hölzern hergestellt. Danach kann es mit Natur
 materialien verziert werden. Wer mag\, kann noch ein Restaurantschild als 
 Werbung für die Vögel anbringen.\n\nFoto: © Michael Zoeller
ATTACH;FMTTYPE=image/jpeg:https://infozentrum-huetten.de/wp-content/upload
 s/2020/07/FlyIn_Futterhaus_MichaelZoeller.jpg
CATEGORIES:Für Kinder
END:VEVENT
BEGIN:VTIMEZONE
TZID:Europe/Berlin
X-LIC-LOCATION:Europe/Berlin
BEGIN:DAYLIGHT
DTSTART:20200329T030000
TZOFFSETFROM:+0100
TZOFFSETTO:+0200
TZNAME:CEST
END:DAYLIGHT
END:VTIMEZONE
END:VCALENDAR