BEGIN:VCALENDAR
VERSION:2.0
PRODID:-//wp-events-plugin.com//6.5.2//EN
TZID:Europe/Berlin
X-WR-TIMEZONE:Europe/Berlin
BEGIN:VEVENT
UID:16@infozentrum-huetten.de
DTSTART;TZID=Europe/Berlin:20190629T100000
DTEND;TZID=Europe/Berlin:20190629T160000
DTSTAMP:20190327T102526Z
URL:https://infozentrum-huetten.de/veranstaltungskalender/flohmarkt
SUMMARY:Flohmarkt
DESCRIPTION:Tauschen\, Kaufen und Verkaufen\nVeranstalter: Biosphären-Info
 rmationszentrum Hütten und Stadtbücherei Schelklingen\n\nAm Samstag\, 29
 . Juni\, findet ab 10 Uhr in der Stadtmitte Schelklingen wieder der jährl
 iche Flohmarkt statt.\n\nBesucher können Schönes\, Nützliches oder Selb
 stgemachtes aus Küche – Keller – Kinderzimmer mitbringen und am Biosp
 hären-Tauschregal gegen langersehnte Lieblingsstücke oder Raritäten ein
 tauschen.\n\nDer Förderverein der Stadtbücherei Schelklingen bietet in s
 einem Mini-Shop Selbstgemachtes von der Marmelade bis zum Babymützchen an
 \, und am Medienstand der Stadtbücherei können Sie ausgemusterten Büche
 rn\, CDs und Filmen ein neues Zuhause geben.\n\nAufgebaut werden kann ab 9
  Uhr\, Anbieter melden sich bitte am Infostand des Infozentrums. Eine vorh
 erige Anmeldung ist nicht erforderlich\, Standgebühr wird nicht erhoben. 
 Jeder verkauft seine Ware selbst\, Gewerbetreibende sind nicht gestattet.\
 n\nAuskunft für Anbieter und weitere Infos: arbeitskreis(at)infozentrum-h
 uetten.de oder über unser →&nbsp\;Kontaktformular.
ATTACH;FMTTYPE=image/jpeg:https://infozentrum-huetten.de/wp-content/upload
 s/2019/02/flea-market-851978_1280.jpg
CATEGORIES:Märkte,Sonderveranstaltungen
END:VEVENT
BEGIN:VTIMEZONE
TZID:Europe/Berlin
X-LIC-LOCATION:Europe/Berlin
BEGIN:DAYLIGHT
DTSTART:20190331T030000
TZOFFSETFROM:+0100
TZOFFSETTO:+0200
TZNAME:CEST
END:DAYLIGHT
END:VTIMEZONE
END:VCALENDAR