BEGIN:VCALENDAR
VERSION:2.0
PRODID:-//wp-events-plugin.com//6.5.2//EN
TZID:Europe/Berlin
X-WR-TIMEZONE:Europe/Berlin
BEGIN:VEVENT
UID:3@infozentrum-huetten.de
DTSTART;TZID=Europe/Berlin:20190802T133000
DTEND;TZID=Europe/Berlin:20190802T163000
DTSTAMP:20190213T090324Z
URL:https://infozentrum-huetten.de/veranstaltungskalender/ferienprogramm-h
 einzelmaennchen-wichtel-und-kobold
SUMMARY:Ferienprogramm: Heinzelmännchen\, Wichtel und Kobold
DESCRIPTION:Ursula Bader-Frommelt\, Alb-Guide und Biosphärenbotschafterin\
 n\nDatum: 02. August 2019\nUhrzeit: 13:30 Uhr\nDauer: ca. 3 Stunden\nTreff
 punkt: Biosphären-Informationszentrum Hütten\nKosten: 5 € pro Kind\nMi
 tzubringen: Große Ahornblätter\; alte\, kleine Vesperbrettchen\, Blümch
 en\, möglichst zum Trocknen\nAnmeldung bis 01.08.2019 unter: uplusu(at)t-
 online.de oder 07391 / 30 06\n\nZuerst wird ein altes Märchen mit dem The
 ma Kobolde vorgelesen\, dann formen wir Kreatives aus der Welt der Heinzel
 männchen und Wichtel und basteln Feentäschchen. Dazwischen sind zur Aufl
 ockerung Spiele über das Leben der Heinzelmännchen geplant.\n\nAlle Vera
 nstaltungen des Infozentrums Hütten im Rahmen des Junior-Ranger-Programms
  findet ihr → hier.
ATTACH;FMTTYPE=image/jpeg:https://infozentrum-huetten.de/wp-content/upload
 s/2019/02/Junior_Ranger_Pressefoto-e1549879762955.jpg
CATEGORIES:Für Kinder
END:VEVENT
BEGIN:VTIMEZONE
TZID:Europe/Berlin
X-LIC-LOCATION:Europe/Berlin
BEGIN:DAYLIGHT
DTSTART:20190331T030000
TZOFFSETFROM:+0100
TZOFFSETTO:+0200
TZNAME:CEST
END:DAYLIGHT
END:VTIMEZONE
END:VCALENDAR