BEGIN:VCALENDAR
VERSION:2.0
PRODID:-//wp-events-plugin.com//6.5.2//EN
TZID:Europe/Berlin
X-WR-TIMEZONE:Europe/Berlin
BEGIN:VEVENT
UID:6@infozentrum-huetten.de
DTSTART;TZID=Europe/Berlin:20190906T140000
DTEND;TZID=Europe/Berlin:20190906T170000
DTSTAMP:20190213T090407Z
URL:https://infozentrum-huetten.de/veranstaltungskalender/felsen-harte-bro
 cken-mit-spannender-lebenswelt
SUMMARY:Felsen – harte Brocken mit spannender Lebenswelt
DESCRIPTION:Andreas Buck\, NABU Blaubeuren\n\nDatum: 6. September 2019\nUhr
 zeit: 14 Uhr\nDauer: 3 Stunden\nTreffpunkt: Biosphären-Informationszentru
 m Hütten\nKosten: 5 €\nMitzubringen: Turn- bzw. leichte Wanderschuhe zu
 m Klettern\, evtl. ein Getränk\nAnmeldung bis 5.9.2019 unter And.Buck(at)
 t-online.de oder 07344 / 71 66\nGeeignet für Kinder ab 9 Jahren\n\nFelsen
 \, ob sonnenverwöhnt oder vom Moos beschattet\, bilden einen außergewöh
 nlichen Lebensraum. In Klüften\, Rissen und Spalten beherbergen sie viele
 rlei seltene Pflanzen und Tiere. Flugkünstler der Lüfte wie Wanderfalke\
 , Kolkrabe und Uhu finden auf den Felsen Rückzugsorte und Nistgelegenheit
 en.\nDie nahegelegenen Felsen rund um Hütten sind das Ziel für diese spa
 nnende Exkursion. Eine kindgerechte Einführung im Infozentrum stimmt die 
 jungen Teilnehmer auf die Unternehmung ein und gibt ihnen das nötige Grun
 dwissen mit.\n\nAlle Veranstaltungen des Infozentrums Hütten im Rahmen de
 s Junior-Ranger-Programms findet ihr → hier.
ATTACH;FMTTYPE=image/jpeg:https://infozentrum-huetten.de/wp-content/upload
 s/2019/02/Junior_Ranger_Pressefoto-e1549879762955.jpg
CATEGORIES:Für Kinder
END:VEVENT
BEGIN:VTIMEZONE
TZID:Europe/Berlin
X-LIC-LOCATION:Europe/Berlin
BEGIN:DAYLIGHT
DTSTART:20190331T030000
TZOFFSETFROM:+0100
TZOFFSETTO:+0200
TZNAME:CEST
END:DAYLIGHT
END:VTIMEZONE
END:VCALENDAR