BEGIN:VCALENDAR
VERSION:2.0
PRODID:-//wp-events-plugin.com//6.5.2//EN
TZID:Europe/Berlin
X-WR-TIMEZONE:Europe/Berlin
BEGIN:VEVENT
UID:12@infozentrum-huetten.de
DTSTART;TZID=Europe/Berlin;VALUE=DATE:20190929
DTEND;TZID=Europe/Berlin;VALUE=DATE:20190930
DTSTAMP:20190804T124641Z
URL:https://infozentrum-huetten.de/veranstaltungskalender/biosphaerentag-o
 beres-schmiechtal
SUMMARY:Biosphärentag Oberes Schmiechtal
DESCRIPTION:Am Sonntag\, 29.09.2019 findet ab 11 Uhr wieder der Biosphären
 tag „Oberes Schmiechtal“ statt. Veranstalter sind das Biosphären-Info
 zentrum Hütten sowie die drei Schelklinger Teilorte Gundershofen\, Hütte
 n und Sondernach. In einer Zeitreise von Dorf zu Dorf können die Gäste V
 ergangenes\, aber auch Aktuelles erleben. In Hütten trifft man sich am Bi
 osphären-Infozentrum zur geführten Themenwanderung. Gundershofen wartet 
 mit Historischem aus der Landwirtschaft\, dem Goißahof und dem Seifenläd
 le auf. In Sondernach erfährt man Wissenswertes zum ehemaligen Pumphäusl
 e\; im Backhaus wird gebacken\, und die Dorfstraße wird zum Markt der reg
 ionalen Vielfalt\, auf dem Kreative aus der Region sich und ihre Erzeugnis
 se präsentieren.\n\nNeben der örtlichen Gastronomie und den Marktanbiete
 rn mit ihren regionalen Köstlichkeiten sorgen in Gundershofen und Sondern
 ach die örtlichen Vereine aufs Beste für das leibliche Wohl.\n\nDas Bios
 phärengebiet Schwäbische Alb feiert 2019 seine 10-jährige UNESCO-Anerke
 nnung mit zehn Jubiläumsveranstaltungen. Eine davon ist eine geführte Wa
 nderung zum Thema Schäferei im Schmiechtal\, die im Rahmen des Biosphäre
 ntags „Oberes Schmiechtal“ stattfindet.
CATEGORIES:Märkte,Sonderveranstaltungen,Wanderungen
END:VEVENT
BEGIN:VTIMEZONE
TZID:Europe/Berlin
X-LIC-LOCATION:Europe/Berlin
BEGIN:DAYLIGHT
DTSTART:20190331T030000
TZOFFSETFROM:+0100
TZOFFSETTO:+0200
TZNAME:CEST
END:DAYLIGHT
END:VTIMEZONE
END:VCALENDAR