BEGIN:VCALENDAR
VERSION:2.0
PRODID:-//wp-events-plugin.com//6.5.2//EN
TZID:Europe/Berlin
X-WR-TIMEZONE:Europe/Berlin
BEGIN:VEVENT
UID:27@infozentrum-huetten.de
DTSTART;TZID=Europe/Berlin:20200913T133000
DTEND;TZID=Europe/Berlin:20200913T163000
DTSTAMP:20200810T131857Z
URL:https://infozentrum-huetten.de/veranstaltungskalender/baerentalrunde
SUMMARY:Geführte Wanderung: Bärentalrunde
DESCRIPTION:für Abenteurer\, Bergsteiger und Wissbegierige\nMax Raiber\, K
 ultur- und Förderverein Hütten\n\nUhrzeit: 13:30 Uhr\nDauer: mit Besicht
 igungen ca. 3 Stunden\, reine Wanderzeit ca. 2 Stunden\nTreffpunkt : Biosp
 hären-Infozentrum Hütten\nKosten: Kostenlos\, um Spenden für den Förde
 rverein wird gebeten\nMitzubringen: Festes Schuhwerk\, dem Wetter angepass
 te Kleidung\, evtl. Rucksackvesper und Getränk\, Taschenlampe für die H
 öhle und für Kinder evtl. einen Fahrradhelm\nAnmeldung bis Samstag\, 12.
 09.2020\, 17 Uhr unter max.raiber(at)t-online.de oder 07384&nbsp\;/&nbsp\;
 370\nGeeignet für Kinder ab 6 Jahren\n\nDie „Bärentalrunde“ beginnt 
 am Parkplatz am Infozentrum und macht zuerst beim Ende des 17. Jahrhundert
 s gebauten Dorfhaus Hütten Station. Dort kann das Museum mit historischer
  Schmiede\, Wagner- und Bürstenmacherwerkstatt besichtigt werden. Weiter 
 führt die Wanderung durchs wildromantische Bärental mit der auf den erst
 en 28 m begehbaren Bärentalhöhle\, dann geht es durch Hangwälder weiter
  bergauf bis zur Ruine Hohenjustingen mit restauriertem Schlosskeller. Üb
 er Wacholderheiden kehrt man zurück nach Hütten\, wo ein Besuch im Biosp
 hären-Infozentrum die Wanderung abschließt.\n\n&nbsp\;
CATEGORIES:Wanderungen
END:VEVENT
BEGIN:VTIMEZONE
TZID:Europe/Berlin
X-LIC-LOCATION:Europe/Berlin
BEGIN:DAYLIGHT
DTSTART:20200329T030000
TZOFFSETFROM:+0100
TZOFFSETTO:+0200
TZNAME:CEST
END:DAYLIGHT
END:VTIMEZONE
END:VCALENDAR