BEGIN:VCALENDAR
VERSION:2.0
PRODID:-//wp-events-plugin.com//6.5.2//EN
TZID:Europe/Berlin
X-WR-TIMEZONE:Europe/Berlin
BEGIN:VEVENT
UID:13@infozentrum-huetten.de
DTSTART;TZID=Europe/Berlin;VALUE=DATE:20190331
DTEND;TZID=Europe/Berlin;VALUE=DATE:20190601
DTSTAMP:20190303T164757Z
URL:https://infozentrum-huetten.de/veranstaltungskalender/ausstellung-die-
 malerei-begleiterin-durch-mein-leben
SUMMARY:Ausstellung: Die Malerei\, Begleiterin durch mein Leben
DESCRIPTION:Elfriede Lang (+ Familie)\n\n\nDie 63-jährige Elfriede Lang is
 t schon seit drei Jahrzehnten als Künstlerin tätig und hat im Blaubeurer
  Raum schon mehrfach ausgestellt. 2003 belegte sie bei der Aktion „Blaub
 eurer Bild des Jahres“ den ersten Platz. Sie malt vor allem Blumen\, Bä
 ume und Landschaften. Auch ihr Bruder Rudolf\, der nach Kanada auswanderte
 \, und der siebenjährige Jonas tragen Bilder zur Ausstellung bei.\n\n[cap
 tion id="attachment_614" align="aligncenter" width="620"] Aquarell von Elf
 riede Lang[/caption]
ATTACH;FMTTYPE=image/jpeg:https://infozentrum-huetten.de/wp-content/upload
 s/2019/02/animal-3013766_1280.jpg
CATEGORIES:Ausstellungen
END:VEVENT
BEGIN:VTIMEZONE
TZID:Europe/Berlin
X-LIC-LOCATION:Europe/Berlin
BEGIN:STANDARD
DTSTART:20181028T020000
TZOFFSETFROM:+0200
TZOFFSETTO:+0100
TZNAME:CET
END:STANDARD
BEGIN:DAYLIGHT
DTSTART:20190331T030000
TZOFFSETFROM:+0100
TZOFFSETTO:+0200
TZNAME:CEST
END:DAYLIGHT
END:VTIMEZONE
END:VCALENDAR