BEGIN:VCALENDAR
VERSION:2.0
PRODID:-//wp-events-plugin.com//6.5.2//EN
TZID:Europe/Berlin
X-WR-TIMEZONE:Europe/Berlin
BEGIN:VEVENT
UID:26@infozentrum-huetten.de
DTSTART;TZID=Europe/Berlin:20200809T100000
DTEND;TZID=Europe/Berlin:20200809T150000
DTSTAMP:20200802T150505Z
URL:https://infozentrum-huetten.de/veranstaltungskalender/auf-den-spuren-d
 er-ersten-albwasserversorgung
SUMMARY:Geführte Wanderung: Auf den Spuren der ersten Albwasserversorgung
DESCRIPTION:Markus Kempf\, Schwäbischer Albverein\n\n\nUhrzeit: 10:00 Uhr\
 nDauer: ca. 4–5 Stunden\nTreffpunkt : Biosphären-Infozentrum Hütten\nK
 osten: Kostenlos\nMitzubringen: Festes Schuhwerk\, dem Wetter angepasste K
 leidung\, Mund-Nasen-Schutz (für den Fall\, dass der Mindestabstand nicht
  eingehalten werden kann) Getränke und Rucksackvesper\nAnmeldung nicht no
 twendig\nKinder sollten gute Wanderer sein. Die Wanderung ist nicht mit Ki
 nderwagen möglich.\n\nAuf der Albwassertour bewegen Sie sich auf den Spur
 en der ersten Albwasserversorgung. Der Rundweg mit einer Länge von 11\,5 
 km führt in ca. 4–5 Stunden über 224 m Höhenunterschied zu historisch
 en Orten in einer intakten Naturlandschaft.\nLassen Sie sich von einer epo
 chalen Geschichte verzaubern!\nAn verschiedenen Stationen erzählt die Rom
 anfigur „Der Schultheiß von Justingen“ vom Entstehen der ersten Albwa
 sserversorgung auf der Schwäbischen Alb. Wandern Sie dort\, wo früher mi
 t Ochsenkarren das Wasser in Fässern auf die Alb gebracht wurde\, und bes
 uchen Sie das erste Pumpwerk der Albwasserversorgung.\nRasten Sie am denkm
 algeschützten Wasserhochbehälter „Sandburren“\, der den Albdörfern 
 Justingen\, Ingstetten und Hausen erstmalig eine dauerhafte Wasserversorgu
 ng auf der wasserarmen Albhochfläche gewährleistete.
ATTACH;FMTTYPE=image/jpeg:https://infozentrum-huetten.de/wp-content/upload
 s/2020/08/IMG_0115-scaled.jpg
CATEGORIES:Wanderungen
END:VEVENT
BEGIN:VTIMEZONE
TZID:Europe/Berlin
X-LIC-LOCATION:Europe/Berlin
BEGIN:DAYLIGHT
DTSTART:20200329T030000
TZOFFSETFROM:+0100
TZOFFSETTO:+0200
TZNAME:CEST
END:DAYLIGHT
END:VTIMEZONE
END:VCALENDAR