BEGIN:VCALENDAR
VERSION:2.0
PRODID:-//wp-events-plugin.com//6.5.2//EN
TZID:Europe/Berlin
X-WR-TIMEZONE:Europe/Berlin
BEGIN:VEVENT
UID:17@infozentrum-huetten.de
DTSTART;TZID=Europe/Berlin:20190505T110000
DTEND;TZID=Europe/Berlin:20190505T170000
DTSTAMP:20190303T195655Z
URL:https://infozentrum-huetten.de/veranstaltungskalender/aktionstag-spann
 endes-rund-um-huetten
SUMMARY:Aktionstag: Spannendes rund um Hütten
DESCRIPTION:Am Sonntag\, den 5. Mai 2019 findet ab 11.00 Uhr wieder der Akt
 ionstag in Hütten statt! Dabei ist einiges geboten:\n\n\nVor der Bärenta
 lhöhle im wild­romantischen Bärental erwartet die Besucher ein Info- un
 d Bücherstand zur Höhlen­forschung. Hier können Sie mit den Forschern 
 vom Höhlen­verein Blaubeuren e. V. ins Gespräch kommen und sich über
  Geologie\, Fossilien und Tierwelt der Höhle informieren.\nMutige können
  in kleinen Gruppen nach den frei zugäng­lichen 28 Metern geführt von H
 öhlenforschern noch 100 Meter tiefer in das Höhlen­labyrinth vordringen
 . Helm\, Lampe und ein spezieller Anzug werden gegen eine Spende gestellt.
  Zweckmäßig sind festes Schuhwerk und robuste Kleidung\, möglichst soll
 te auch noch eine eigene Taschenlampe mitgebracht werden.\n\nZwei weitere 
 Attraktionen bietet der Förderverein Hütten e. V. für Kultur und Heim
 atpflege an: Das Ende des 17. Jahrhunderts als Lehenshof der Herrschaft Ju
 stingen gebaute Dorfhaus Hütten ist zur Besichtigung geöffnet. Heute beh
 erbergt es ein kleines Museum mit einer Wagnerwerkstatt\, einer Schmiedewe
 rkstatt und einer Bürstenmacherei.\nBis ins 11. Jahrhundert zurück geht 
 die Geschichte des Schlosses Justingen. Ein Wanderweg vom Dorfhaus durch d
 as Bärental vorbei an der Bärentalhöhle führt nach ca. 40 Minuten zur 
 Schlossruine. In den Jahren 2005 bis 2012 wurden das Kellergewölbe und er
 haltene Teile der Schlossmauer von freiwilligen Helfern aus Hütten und Ju
 stingen saniert und für die Öffentlichkeit wieder zugänglich gemacht.\n
 \nDer Duft von frisch gebackenem Brot und Kuchen lockt die Besucher zum Ba
 ckhaus. Das Team vom Gasthof Bären wartet dort zur Stärkung mit Bauernbr
 ot\, Zwiebelkuchen und hausgemachten Kuchenspezialitäten auf.\n\nBeim Inf
 ozentrum können Sie sich am Biosphärenmobil und am Infostand des Geopark
 s Schwäbische Alb über Natur und Geologie des Biosphärengebiets informi
 eren. Außerdem gibt es Führungen durch den Wildkräutergarten des Infoze
 ntrums\, und der Pfadfinderstamm „Guter Hirte“ und das Biosphärenteam
  bieten Mitmachaktionen für Groß und Klein.
CATEGORIES:Sonderveranstaltungen
END:VEVENT
BEGIN:VTIMEZONE
TZID:Europe/Berlin
X-LIC-LOCATION:Europe/Berlin
BEGIN:DAYLIGHT
DTSTART:20190331T030000
TZOFFSETFROM:+0100
TZOFFSETTO:+0200
TZNAME:CEST
END:DAYLIGHT
END:VTIMEZONE
END:VCALENDAR