BEGIN:VCALENDAR
VERSION:2.0
PRODID:-//wp-events-plugin.com//6.5.2//EN
TZID:Europe/Berlin
X-WR-TIMEZONE:Europe/Berlin
BEGIN:VEVENT
UID:11@infozentrum-huetten.de
DTSTART;TZID=Europe/Berlin:20190713T100000
DTEND;TZID=Europe/Berlin:20190713T150000
DTSTAMP:20190213T090710Z
URL:https://infozentrum-huetten.de/veranstaltungskalender/abenteuer-wildni
 s
SUMMARY:Abenteuer Wildnis
DESCRIPTION:Ein Erlebnis für Dich und Deine Eltern\nHeidi Bossert\, Naturp
 ädagogin (naturemo – Natur erleben)\n\nIn Kooperation mit der vhs Laich
 ingen-Blaubeuren-Schelklingen e. V.\n\nDatum: Samstag\, 13. Juli 2019\nUhr
 zeit: 10 Uhr\nDauer: 5 Stunden\nTreffpunkt: Sportplatz Justingen\; von dor
 t fahren wir gemeinsam ein kleines Stück bis zum Startpunkt. Der Weg ist 
 ein Forstweg und für Kinderwagen und Rollstuhl weniger geeignet.\nWegstre
 cke: ca. 2\,6 km insgesamt\, Höhenunterschied: 56 m bergab\, zurück 56 m
  bergauf\nVeranstaltungsort: Zeltplatz Justingen\nKosten: 40 € pro Elter
 nteil-Kind-Paar\, 20 € je weiteres Geschwisterkind\nMitzubringen: Geträ
 nk\, kleiner Snack\, dem Wetter angemessene Kleidung\, lange Hosen\, Schuh
 e mit griffigen Sohlen\, Sitzunterlage (Isomatte\, Decke)\, Insektenschutz
 .\nAnmeldung bis 14 Tage vor der Veranstaltung unter tiliaalb(at)web.de od
 er 0179 / 97 93 751\nGeeignet für Kinder von 7 bis 10 Jahren mit Begleitp
 erson\n\n[caption id="attachment_456" align="alignright" width="375"] Der 
 Wald – ein Abenteuer[/caption]\n\nHier in unseren Wäldern gibt es viel 
 zu entdecken. Wenn du mit deiner Mama/deinem Papa gemeinsam auf Abenteuert
 our gehst\, werdet ihr vieles erfahren\, was euch auf zukünftigen Touren 
 nützlich sein wird. Was ist wichtig zu wissen\, um im Wald zurechtzukomme
 n? Welche Tiere leben hier und wo könnten wir sie aufspüren? Gibt es Ess
 bares im Wald – wie muss damit umgegangen werden?\n\nWas euch erwartet:\
 n\n 	Laubhütte errichten\n 	Umgang mit dem Schnitzmesser\n 	Feuer machen\
 n 	Kennenlernen von essbaren Pflanzen\n 	Herstellen eines gesunden Naturtr
 unks\n 	Kochen am Lagerfeuer (Waldläufersuppe und Stockbrot)\n\n(In der T
 eilnahmegebühr sind die Zutaten für Stockbrot\, Wildnissuppe\, Quark fü
 r Kräuterdip\, Beerenmarmelade etc. enthalten.)\n\nAlle Veranstaltungen d
 es Infozentrums Hütten im Rahmen des Junior-Ranger-Programms findet ihr 
 → hier.
ATTACH;FMTTYPE=image/jpeg:https://infozentrum-huetten.de/wp-content/upload
 s/2019/02/Junior_Ranger_Pressefoto-e1549879762955.jpg
CATEGORIES:Für Kinder
END:VEVENT
BEGIN:VTIMEZONE
TZID:Europe/Berlin
X-LIC-LOCATION:Europe/Berlin
BEGIN:DAYLIGHT
DTSTART:20190331T030000
TZOFFSETFROM:+0100
TZOFFSETTO:+0200
TZNAME:CEST
END:DAYLIGHT
END:VTIMEZONE
END:VCALENDAR